Package: tanggle Version: 1.15.2 Command: chmod a+r tanggle -R && F:\biocbuild\bbs-3.22-bioc\R\bin\R.exe CMD build --keep-empty-dirs --no-resave-data tanggle StartedAt: 2025-07-11 22:28:03 -0400 (Fri, 11 Jul 2025) EndedAt: 2025-07-11 22:28:41 -0400 (Fri, 11 Jul 2025) EllapsedTime: 38.1 seconds RetCode: 0 Status: OK PackageFile: tanggle_1.15.2.tar.gz PackageFileSize: 1.158 MiB