Package: tadar Version: 1.7.1 Command: /home/biocbuild/R/R/bin/R CMD INSTALL tadar StartedAt: 2025-10-06 21:11:01 -0000 (Mon, 06 Oct 2025) EndedAt: 2025-10-06 21:12:08 -0000 (Mon, 06 Oct 2025) EllapsedTime: 67.0 seconds RetCode: 0 Status: OK