Package: tadar Version: 1.7.1 Command: rm -rf tadar.buildbin-libdir && mkdir tadar.buildbin-libdir && F:\biocbuild\bbs-3.22-bioc\R\bin\R.exe CMD INSTALL --build --library=tadar.buildbin-libdir tadar_1.7.1.tar.gz StartedAt: 2025-08-15 11:27:54 -0400 (Fri, 15 Aug 2025) EndedAt: 2025-08-15 11:29:03 -0400 (Fri, 15 Aug 2025) EllapsedTime: 68.3 seconds RetCode: 0 Status: OK PackageFile: tadar_1.7.1.zip PackageFileSize: 1.07 MiB