Package: tadar Version: 1.7.1 Command: /home/biocbuild/bbs-3.22-bioc/R/bin/R CMD build --keep-empty-dirs --no-resave-data --md5 tadar StartedAt: 2025-10-05 20:30:34 -0400 (Sun, 05 Oct 2025) EndedAt: 2025-10-05 20:32:13 -0400 (Sun, 05 Oct 2025) EllapsedTime: 99.1 seconds RetCode: 0 Status: OK PackageFile: tadar_1.7.1.tar.gz PackageFileSize: 1.688 MiB