Package: tadar Version: 1.7.1 Command: /Library/Frameworks/R.framework/Resources/bin/R CMD INSTALL tadar StartedAt: 2025-10-03 15:42:01 -0400 (Fri, 03 Oct 2025) EndedAt: 2025-10-03 15:43:12 -0400 (Fri, 03 Oct 2025) EllapsedTime: 70.3 seconds RetCode: 0 Status: OK