Package: tadar Version: 1.7.1 Command: /Library/Frameworks/R.framework/Resources/bin/R CMD build --keep-empty-dirs --no-resave-data tadar StartedAt: 2025-10-05 19:15:41 -0400 (Sun, 05 Oct 2025) EndedAt: 2025-10-05 19:17:31 -0400 (Sun, 05 Oct 2025) EllapsedTime: 109.8 seconds RetCode: 0 Status: OK PackageFile: tadar_1.7.1.tar.gz PackageFileSize: 1.744 MiB