Package: tadar Version: 1.7.1 Command: /Library/Frameworks/R.framework/Resources/bin/R CMD INSTALL tadar StartedAt: 2025-10-05 15:25:38 -0400 (Sun, 05 Oct 2025) EndedAt: 2025-10-05 15:25:59 -0400 (Sun, 05 Oct 2025) EllapsedTime: 21.2 seconds RetCode: 0 Status: OK