Package: tadar Version: 1.7.1 Command: /Library/Frameworks/R.framework/Resources/bin/R CMD build --keep-empty-dirs --no-resave-data tadar StartedAt: 2025-10-05 17:58:10 -0400 (Sun, 05 Oct 2025) EndedAt: 2025-10-05 17:58:52 -0400 (Sun, 05 Oct 2025) EllapsedTime: 42.5 seconds RetCode: 0 Status: OK PackageFile: tadar_1.7.1.tar.gz PackageFileSize: 1.745 MiB