Package: tadar Version: 1.7.1 Command: rm -rf tadar.buildbin-libdir && mkdir tadar.buildbin-libdir && /Users/biocbuild/BBS/utils/build-universal.sh tadar_1.7.1.tar.gz /Library/Frameworks/R.framework/Resources/bin/R tadar.buildbin-libdir StartedAt: 2025-10-05 23:01:50 -0400 (Sun, 05 Oct 2025) EndedAt: 2025-10-05 23:02:13 -0400 (Sun, 05 Oct 2025) EllapsedTime: 22.6 seconds RetCode: 0 Status: OK PackageFile: tadar_1.7.1.tgz PackageFileSize: 1.491 MiB