Package: tadar Version: 1.7.1 Maintainer: Lachlan Baer MaintainerEmail: baerlachlan at gmail.com git_url: https://git.bioconductor.org/packages/tadar git_branch: devel git_last_commit: 94180a4 git_last_commit_date: 2025-07-23 18:12:37 -0400 (Wed, 23 Jul 2025)