Package: tRanslatome Version: 1.47.0 Command: /home/biocbuild/R/R/bin/R CMD check --install=check:tRanslatome.install-out.txt --library=/home/biocbuild/R/R/site-library --no-vignettes --timings tRanslatome_1.47.0.tar.gz StartedAt: 2025-07-11 13:12:58 -0000 (Fri, 11 Jul 2025) EndedAt: 2025-07-11 13:19:11 -0000 (Fri, 11 Jul 2025) EllapsedTime: 373.4 seconds RetCode: 0 Status: OK CheckDir: tRanslatome.Rcheck Warnings: 0