Package: tRanslatome Version: 1.47.0 Command: F:\biocbuild\bbs-3.22-bioc\R\bin\R.exe CMD check --no-multiarch --install=check:tRanslatome.install-out.txt --library=F:\biocbuild\bbs-3.22-bioc\R\library --no-vignettes --timings tRanslatome_1.47.0.tar.gz StartedAt: 2025-07-18 07:35:02 -0400 (Fri, 18 Jul 2025) EndedAt: 2025-07-18 07:41:17 -0400 (Fri, 18 Jul 2025) EllapsedTime: 374.9 seconds RetCode: 0 Status: OK CheckDir: tRanslatome.Rcheck Warnings: 0