Package: tRanslatome Version: 1.47.0 Command: chmod a+r tRanslatome -R && F:\biocbuild\bbs-3.22-bioc\R\bin\R.exe CMD build --keep-empty-dirs --no-resave-data tRanslatome StartedAt: 2025-07-16 22:38:11 -0400 (Wed, 16 Jul 2025) EndedAt: 2025-07-16 22:40:32 -0400 (Wed, 16 Jul 2025) EllapsedTime: 140.8 seconds RetCode: 0 Status: OK PackageFile: tRanslatome_1.47.0.tar.gz PackageFileSize: 812.5 KiB