Package: tRanslatome Version: 1.47.0 Command: rm -rf tRanslatome.buildbin-libdir && mkdir tRanslatome.buildbin-libdir && F:\biocbuild\bbs-3.22-bioc\R\bin\R.exe CMD INSTALL --build --library=tRanslatome.buildbin-libdir tRanslatome_1.47.0.tar.gz StartedAt: 2025-07-17 10:13:20 -0400 (Thu, 17 Jul 2025) EndedAt: 2025-07-17 10:14:43 -0400 (Thu, 17 Jul 2025) EllapsedTime: 83.6 seconds RetCode: 0 Status: OK PackageFile: tRanslatome_1.47.0.zip PackageFileSize: 1.198 MiB