Package: tRanslatome Version: 1.47.0 Command: /home/biocbuild/bbs-3.22-bioc/R/bin/R CMD INSTALL tRanslatome StartedAt: 2025-07-11 15:38:29 -0400 (Fri, 11 Jul 2025) EndedAt: 2025-07-11 15:39:12 -0400 (Fri, 11 Jul 2025) EllapsedTime: 43.8 seconds RetCode: 0 Status: OK