Package: tRanslatome Version: 1.47.0 Command: /Library/Frameworks/R.framework/Resources/bin/R CMD check --install=check:tRanslatome.install-out.txt --library=/Library/Frameworks/R.framework/Resources/library --no-vignettes --timings tRanslatome_1.47.0.tar.gz StartedAt: 2025-07-12 00:12:52 -0400 (Sat, 12 Jul 2025) EndedAt: 2025-07-12 00:18:33 -0400 (Sat, 12 Jul 2025) EllapsedTime: 340.5 seconds RetCode: 0 Status: OK CheckDir: tRanslatome.Rcheck Warnings: 0