Package: tRanslatome Version: 1.47.0 Command: /Library/Frameworks/R.framework/Resources/bin/R CMD build --keep-empty-dirs --no-resave-data tRanslatome StartedAt: 2025-07-11 18:48:20 -0400 (Fri, 11 Jul 2025) EndedAt: 2025-07-11 18:50:00 -0400 (Fri, 11 Jul 2025) EllapsedTime: 99.5 seconds RetCode: 0 Status: OK PackageFile: tRanslatome_1.47.0.tar.gz PackageFileSize: 934.8 KiB