Package: tRanslatome Version: 1.47.0 Command: /Library/Frameworks/R.framework/Resources/bin/R CMD build --keep-empty-dirs --no-resave-data tRanslatome StartedAt: 2025-07-22 17:48:40 -0400 (Tue, 22 Jul 2025) EndedAt: 2025-07-22 17:49:19 -0400 (Tue, 22 Jul 2025) EllapsedTime: 38.5 seconds RetCode: 0 Status: OK PackageFile: tRanslatome_1.47.0.tar.gz PackageFileSize: 935.9 KiB