Package: tRNAdbImport Version: 1.27.0 Command: F:\biocbuild\bbs-3.22-bioc\R\bin\R.exe CMD INSTALL tRNAdbImport StartedAt: 2025-07-24 16:43:07 -0400 (Thu, 24 Jul 2025) EndedAt: 2025-07-24 16:43:37 -0400 (Thu, 24 Jul 2025) EllapsedTime: 29.4 seconds RetCode: 0 Status: OK