Package: tRNAdbImport Version: 1.27.0 Command: chmod a+r tRNAdbImport -R && F:\biocbuild\bbs-3.22-bioc\R\bin\R.exe CMD build --keep-empty-dirs --no-resave-data tRNAdbImport StartedAt: 2025-07-24 22:55:55 -0400 (Thu, 24 Jul 2025) EndedAt: 2025-07-24 22:56:42 -0400 (Thu, 24 Jul 2025) EllapsedTime: 46.3 seconds RetCode: 0 Status: OK PackageFile: tRNAdbImport_1.27.0.tar.gz PackageFileSize: 322.1 KiB