Package: tRNAdbImport Version: 1.27.0 Command: rm -rf tRNAdbImport.buildbin-libdir && mkdir tRNAdbImport.buildbin-libdir && F:\biocbuild\bbs-3.22-bioc\R\bin\R.exe CMD INSTALL --build --library=tRNAdbImport.buildbin-libdir tRNAdbImport_1.27.0.tar.gz StartedAt: 2025-07-25 10:33:08 -0400 (Fri, 25 Jul 2025) EndedAt: 2025-07-25 10:33:55 -0400 (Fri, 25 Jul 2025) EllapsedTime: 47.3 seconds RetCode: 0 Status: OK PackageFile: tRNAdbImport_1.27.0.zip PackageFileSize: 381.1 KiB