Package: tRNAdbImport Version: 1.27.0 Command: /Library/Frameworks/R.framework/Resources/bin/R CMD INSTALL tRNAdbImport StartedAt: 2025-07-04 15:19:42 -0400 (Fri, 04 Jul 2025) EndedAt: 2025-07-04 15:19:48 -0400 (Fri, 04 Jul 2025) EllapsedTime: 5.9 seconds RetCode: 0 Status: OK