Package: tRNAdbImport Version: 1.27.0 Command: /Library/Frameworks/R.framework/Resources/bin/R CMD build --keep-empty-dirs --no-resave-data tRNAdbImport StartedAt: 2025-07-04 17:48:37 -0400 (Fri, 04 Jul 2025) EndedAt: 2025-07-04 17:48:50 -0400 (Fri, 04 Jul 2025) EllapsedTime: 13.2 seconds RetCode: 0 Status: OK PackageFile: tRNAdbImport_1.27.0.tar.gz PackageFileSize: 321.8 KiB