Package: tRNA Version: 1.27.0 Command: F:\biocbuild\bbs-3.22-bioc\R\bin\R.exe CMD INSTALL tRNA StartedAt: 2025-07-14 15:57:18 -0400 (Mon, 14 Jul 2025) EndedAt: 2025-07-14 15:57:55 -0400 (Mon, 14 Jul 2025) EllapsedTime: 36.5 seconds RetCode: 0 Status: OK