Package: tRNA Version: 1.27.0 Command: F:\biocbuild\bbs-3.22-bioc\R\bin\R.exe CMD check --no-multiarch --install=check:tRNA.install-out.txt --library=F:\biocbuild\bbs-3.22-bioc\R\library --no-vignettes --timings tRNA_1.27.0.tar.gz StartedAt: 2025-07-18 07:40:55 -0400 (Fri, 18 Jul 2025) EndedAt: 2025-07-18 07:45:09 -0400 (Fri, 18 Jul 2025) EllapsedTime: 254.9 seconds RetCode: 0 Status: OK CheckDir: tRNA.Rcheck Warnings: 0