Package: tRNA Version: 1.27.0 Command: /Library/Frameworks/R.framework/Resources/bin/R CMD check --install=check:tRNA.install-out.txt --library=/Library/Frameworks/R.framework/Resources/library --no-vignettes --timings tRNA_1.27.0.tar.gz StartedAt: 2025-07-01 21:54:17 -0400 (Tue, 01 Jul 2025) EndedAt: 2025-07-01 21:55:29 -0400 (Tue, 01 Jul 2025) EllapsedTime: 71.9 seconds RetCode: 0 Status: OK CheckDir: tRNA.Rcheck Warnings: 0