Package: tLOH Version: 1.17.0 Command: /home/biocbuild/R/R/bin/R CMD build --keep-empty-dirs --no-resave-data tLOH StartedAt: 2025-07-04 03:28:38 -0000 (Fri, 04 Jul 2025) EndedAt: 2025-07-04 03:30:11 -0000 (Fri, 04 Jul 2025) EllapsedTime: 93.0 seconds RetCode: 0 Status: OK PackageFile: tLOH_1.17.0.tar.gz PackageFileSize: 1.698 MiB