Package: tLOH Version: 1.17.0 Command: F:\biocbuild\bbs-3.22-bioc\R\bin\R.exe CMD check --no-multiarch --install=check:tLOH.install-out.txt --library=F:\biocbuild\bbs-3.22-bioc\R\library --no-vignettes --timings tLOH_1.17.0.tar.gz StartedAt: 2025-07-23 07:40:40 -0400 (Wed, 23 Jul 2025) EndedAt: 2025-07-23 07:54:26 -0400 (Wed, 23 Jul 2025) EllapsedTime: 825.5 seconds RetCode: 0 Status: OK CheckDir: tLOH.Rcheck Warnings: 0