Package: tLOH Version: 1.17.0 Command: rm -rf tLOH.buildbin-libdir && mkdir tLOH.buildbin-libdir && F:\biocbuild\bbs-3.22-bioc\R\bin\R.exe CMD INSTALL --build --library=tLOH.buildbin-libdir tLOH_1.17.0.tar.gz StartedAt: 2025-07-23 10:21:08 -0400 (Wed, 23 Jul 2025) EndedAt: 2025-07-23 10:22:05 -0400 (Wed, 23 Jul 2025) EllapsedTime: 56.9 seconds RetCode: 0 Status: OK PackageFile: tLOH_1.17.0.zip PackageFileSize: 1.801 MiB