Package: tLOH Version: 1.17.0 Command: /Library/Frameworks/R.framework/Resources/bin/R CMD check --install=check:tLOH.install-out.txt --library=/Library/Frameworks/R.framework/Resources/library --no-vignettes --timings tLOH_1.17.0.tar.gz StartedAt: 2025-07-15 00:10:52 -0400 (Tue, 15 Jul 2025) EndedAt: 2025-07-15 00:22:12 -0400 (Tue, 15 Jul 2025) EllapsedTime: 680.4 seconds RetCode: 0 Status: OK CheckDir: tLOH.Rcheck Warnings: 0