Package: tLOH Version: 1.17.0 Command: rm -rf tLOH.buildbin-libdir && mkdir tLOH.buildbin-libdir && /Users/biocbuild/BBS/utils/build-universal.sh tLOH_1.17.0.tar.gz /Library/Frameworks/R.framework/Resources/bin/R tLOH.buildbin-libdir StartedAt: 2025-07-13 22:35:58 -0400 (Sun, 13 Jul 2025) EndedAt: 2025-07-13 22:36:17 -0400 (Sun, 13 Jul 2025) EllapsedTime: 19.4 seconds RetCode: 0 Status: OK PackageFile: tLOH_1.17.0.tgz PackageFileSize: 2.513 MiB