Package: systemPipeShiny Version: 1.19.1 Command: /Library/Frameworks/R.framework/Resources/bin/R CMD check --install=check:systemPipeShiny.install-out.txt --library=/Library/Frameworks/R.framework/Resources/library --no-vignettes --timings systemPipeShiny_1.19.1.tar.gz StartedAt: 2025-06-29 23:46:48 -0400 (Sun, 29 Jun 2025) EndedAt: 2025-06-29 23:48:48 -0400 (Sun, 29 Jun 2025) EllapsedTime: 119.7 seconds RetCode: 0 Status: OK CheckDir: systemPipeShiny.Rcheck Warnings: 0