Package: systemPipeR Version: 2.15.2 Command: F:\biocbuild\bbs-3.22-bioc\R\bin\R.exe CMD INSTALL systemPipeR StartedAt: 2025-07-01 16:52:55 -0400 (Tue, 01 Jul 2025) EndedAt: 2025-07-01 16:57:08 -0400 (Tue, 01 Jul 2025) EllapsedTime: 252.9 seconds RetCode: 0 Status: OK