Package: systemPipeR Version: 2.15.2 Command: F:\biocbuild\bbs-3.22-bioc\R\bin\R.exe CMD check --no-multiarch --install=check:systemPipeR.install-out.txt --library=F:\biocbuild\bbs-3.22-bioc\R\library --no-vignettes --timings systemPipeR_2.15.2.tar.gz StartedAt: 2025-07-02 07:13:36 -0400 (Wed, 02 Jul 2025) EndedAt: 2025-07-02 07:21:30 -0400 (Wed, 02 Jul 2025) EllapsedTime: 474.5 seconds RetCode: 0 Status: OK CheckDir: systemPipeR.Rcheck Warnings: 0