Package: systemPipeR Version: 2.15.2 Command: rm -rf systemPipeR.buildbin-libdir && mkdir systemPipeR.buildbin-libdir && F:\biocbuild\bbs-3.22-bioc\R\bin\R.exe CMD INSTALL --build --library=systemPipeR.buildbin-libdir systemPipeR_2.15.2.tar.gz StartedAt: 2025-07-02 10:03:43 -0400 (Wed, 02 Jul 2025) EndedAt: 2025-07-02 10:06:35 -0400 (Wed, 02 Jul 2025) EllapsedTime: 171.7 seconds RetCode: 0 Status: OK PackageFile: systemPipeR_2.15.2.zip PackageFileSize: 6.361 MiB