Package: synlet Version: 2.9.0 Command: /home/biocbuild/R/R/bin/R CMD check --install=check:synlet.install-out.txt --library=/home/biocbuild/R/R/site-library --no-vignettes --timings synlet_2.9.0.tar.gz StartedAt: 2025-07-11 12:57:05 -0000 (Fri, 11 Jul 2025) EndedAt: 2025-07-11 12:57:50 -0000 (Fri, 11 Jul 2025) EllapsedTime: 45.1 seconds RetCode: 0 Status: OK CheckDir: synlet.Rcheck Warnings: 0