Package: synlet Version: 2.9.0 Command: /home/biocbuild/R/R/bin/R CMD build --keep-empty-dirs --no-resave-data synlet StartedAt: 2025-07-08 03:04:36 -0000 (Tue, 08 Jul 2025) EndedAt: 2025-07-08 03:05:24 -0000 (Tue, 08 Jul 2025) EllapsedTime: 48.1 seconds RetCode: 0 Status: OK PackageFile: synlet_2.9.0.tar.gz PackageFileSize: 827.4 KiB