Package: synlet Version: 2.9.0 Command: F:\biocbuild\bbs-3.22-bioc\R\bin\R.exe CMD check --no-multiarch --install=check:synlet.install-out.txt --library=F:\biocbuild\bbs-3.22-bioc\R\library --no-vignettes --timings synlet_2.9.0.tar.gz StartedAt: 2025-07-22 07:28:06 -0400 (Tue, 22 Jul 2025) EndedAt: 2025-07-22 07:29:06 -0400 (Tue, 22 Jul 2025) EllapsedTime: 60.0 seconds RetCode: 0 Status: OK CheckDir: synlet.Rcheck Warnings: 0