Package: synergyfinder Version: 3.17.0 Command: /home/biocbuild/R/R/bin/R CMD INSTALL synergyfinder StartedAt: 2025-07-24 21:09:26 -0000 (Thu, 24 Jul 2025) EndedAt: 2025-07-24 21:09:48 -0000 (Thu, 24 Jul 2025) EllapsedTime: 22.3 seconds RetCode: 0 Status: OK