Package: synergyfinder Version: 3.17.0 Command: /home/biocbuild/R/R/bin/R CMD build --keep-empty-dirs --no-resave-data synergyfinder StartedAt: 2025-07-25 04:18:14 -0000 (Fri, 25 Jul 2025) EndedAt: 2025-07-25 04:21:01 -0000 (Fri, 25 Jul 2025) EllapsedTime: 167.1 seconds RetCode: 0 Status: OK PackageFile: synergyfinder_3.17.0.tar.gz PackageFileSize: 6.089 MiB