Package: synergyfinder Version: 3.17.0 Command: /Library/Frameworks/R.framework/Resources/bin/R CMD check --install=check:synergyfinder.install-out.txt --library=/Library/Frameworks/R.framework/Resources/library --no-vignettes --timings synergyfinder_3.17.0.tar.gz StartedAt: 2025-07-23 00:10:32 -0400 (Wed, 23 Jul 2025) EndedAt: 2025-07-23 00:12:43 -0400 (Wed, 23 Jul 2025) EllapsedTime: 131.0 seconds RetCode: 0 Status: WARNINGS CheckDir: synergyfinder.Rcheck Warnings: 1