Package: synergyfinder Version: 3.17.0 Command: /Library/Frameworks/R.framework/Resources/bin/R CMD build --keep-empty-dirs --no-resave-data synergyfinder StartedAt: 2025-07-21 18:38:04 -0400 (Mon, 21 Jul 2025) EndedAt: 2025-07-21 18:40:11 -0400 (Mon, 21 Jul 2025) EllapsedTime: 127.0 seconds RetCode: 0 Status: OK PackageFile: synergyfinder_3.17.0.tar.gz PackageFileSize: 6.544 MiB