Package: synapter Version: 2.31.1 Maintainer: Laurent Gatto MaintainerEmail: laurent.gatto at uclouvain.be git_url: https://git.bioconductor.org/packages/synapter git_branch: devel git_last_commit: 34e80f1 git_last_commit_date: 2025-03-12 08:34:00 -0400 (Wed, 12 Mar 2025)