Package: synapsis Version: 1.15.0 Command: /home/biocbuild/R/R/bin/R CMD build --keep-empty-dirs --no-resave-data synapsis StartedAt: 2025-07-25 04:18:09 -0000 (Fri, 25 Jul 2025) EndedAt: 2025-07-25 04:18:53 -0000 (Fri, 25 Jul 2025) EllapsedTime: 44.0 seconds RetCode: 0 Status: OK PackageFile: synapsis_1.15.0.tar.gz PackageFileSize: 3.308 MiB