Package: synapsis Version: 1.15.0 Command: /Library/Frameworks/R.framework/Resources/bin/R CMD INSTALL synapsis StartedAt: 2025-07-21 15:13:34 -0400 (Mon, 21 Jul 2025) EndedAt: 2025-07-21 15:13:41 -0400 (Mon, 21 Jul 2025) EllapsedTime: 7.4 seconds RetCode: 0 Status: OK