Package: synapsis Version: 1.15.0 Command: /Library/Frameworks/R.framework/Resources/bin/R CMD check --install=check:synapsis.install-out.txt --library=/Library/Frameworks/R.framework/Resources/library --no-vignettes --timings synapsis_1.15.0.tar.gz StartedAt: 2025-07-22 00:05:40 -0400 (Tue, 22 Jul 2025) EndedAt: 2025-07-22 00:06:31 -0400 (Tue, 22 Jul 2025) EllapsedTime: 50.4 seconds RetCode: 0 Status: OK CheckDir: synapsis.Rcheck Warnings: 0