Package: synapsis Version: 1.15.0 Command: /Library/Frameworks/R.framework/Resources/bin/R CMD build --keep-empty-dirs --no-resave-data synapsis StartedAt: 2025-07-21 18:38:03 -0400 (Mon, 21 Jul 2025) EndedAt: 2025-07-21 18:38:39 -0400 (Mon, 21 Jul 2025) EllapsedTime: 35.5 seconds RetCode: 0 Status: OK PackageFile: synapsis_1.15.0.tar.gz PackageFileSize: 3.532 MiB