Package: switchde Version: 1.35.0 Command: /home/biocbuild/R/R/bin/R CMD INSTALL switchde StartedAt: 2025-06-30 20:52:21 -0000 (Mon, 30 Jun 2025) EndedAt: 2025-06-30 20:52:53 -0000 (Mon, 30 Jun 2025) EllapsedTime: 31.2 seconds RetCode: 0 Status: OK