Package: switchde Version: 1.35.0 Command: /home/biocbuild/R/R/bin/R CMD check --install=check:switchde.install-out.txt --library=/home/biocbuild/R/R/site-library --no-vignettes --timings switchde_1.35.0.tar.gz StartedAt: 2025-07-01 12:20:02 -0000 (Tue, 01 Jul 2025) EndedAt: 2025-07-01 12:23:34 -0000 (Tue, 01 Jul 2025) EllapsedTime: 212.4 seconds RetCode: 0 Status: OK CheckDir: switchde.Rcheck Warnings: 0