Package: switchde Version: 1.35.0 Command: /home/biocbuild/R/R/bin/R CMD build --keep-empty-dirs --no-resave-data switchde StartedAt: 2025-07-01 03:25:46 -0000 (Tue, 01 Jul 2025) EndedAt: 2025-07-01 03:26:40 -0000 (Tue, 01 Jul 2025) EllapsedTime: 54.0 seconds RetCode: 0 Status: OK PackageFile: switchde_1.35.0.tar.gz PackageFileSize: 650.3 KiB